BEGIN:VCALENDAR
VERSION:2.0
PRODID:-//Rancho Rio - ECPv6.15.20//NONSGML v1.0//EN
CALSCALE:GREGORIAN
METHOD:PUBLISH
X-ORIGINAL-URL:https://ranchorioaz.com
X-WR-CALDESC:Events for Rancho Rio
REFRESH-INTERVAL;VALUE=DURATION:PT1H
X-Robots-Tag:noindex
X-PUBLISHED-TTL:PT1H
BEGIN:VTIMEZONE
TZID:America/Denver
BEGIN:DAYLIGHT
TZOFFSETFROM:-0700
TZOFFSETTO:-0600
TZNAME:MDT
DTSTART:20250309T090000
END:DAYLIGHT
BEGIN:STANDARD
TZOFFSETFROM:-0600
TZOFFSETTO:-0700
TZNAME:MST
DTSTART:20251102T080000
END:STANDARD
BEGIN:DAYLIGHT
TZOFFSETFROM:-0700
TZOFFSETTO:-0600
TZNAME:MDT
DTSTART:20260308T090000
END:DAYLIGHT
BEGIN:STANDARD
TZOFFSETFROM:-0600
TZOFFSETTO:-0700
TZNAME:MST
DTSTART:20261101T080000
END:STANDARD
BEGIN:DAYLIGHT
TZOFFSETFROM:-0700
TZOFFSETTO:-0600
TZNAME:MDT
DTSTART:20270314T090000
END:DAYLIGHT
BEGIN:STANDARD
TZOFFSETFROM:-0600
TZOFFSETTO:-0700
TZNAME:MST
DTSTART:20271107T080000
END:STANDARD
END:VTIMEZONE
BEGIN:VEVENT
DTSTART;VALUE=DATE:20260218
DTEND;VALUE=DATE:20260219
DTSTAMP:20260419T074031
CREATED:20260116T230354Z
LAST-MODIFIED:20260217T190000Z
UID:10000197-1771372800-1771459199@ranchorioaz.com
SUMMARY:Sweetheart Showdown - Cancelled
DESCRIPTION:
URL:https://ranchorioaz.com/event/sweetheart-showdown-at-west-wickenburg/
LOCATION:West Wickenburg\, 43550 W Hwy 60\, Wickenburg\, AZ\, 85390-2468\, United States
CATEGORIES:Rancho Rio
ATTACH;FMTTYPE=image/png:https://ranchorioaz.com/wp-content/uploads/2026/01/WW_SweetheartShowdown_CANCELLED.png
END:VEVENT
BEGIN:VEVENT
DTSTART;VALUE=DATE:20260217
DTEND;VALUE=DATE:20260218
DTSTAMP:20260419T074031
CREATED:20260116T230840Z
LAST-MODIFIED:20260116T230840Z
UID:10000201-1771286400-1771372799@ranchorioaz.com
SUMMARY:Legends Out West
DESCRIPTION:
URL:https://ranchorioaz.com/event/legends-out-west-7/
LOCATION:West Wickenburg\, 43550 W Hwy 60\, Wickenburg\, AZ\, 85390-2468\, United States
CATEGORIES:Legends,Rancho Rio
ATTACH;FMTTYPE=image/jpeg:https://ranchorioaz.com/wp-content/uploads/2026/01/02.26_WestWickenburg.jpg
END:VEVENT
BEGIN:VEVENT
DTSTART;VALUE=DATE:20260216
DTEND;VALUE=DATE:20260217
DTSTAMP:20260419T074031
CREATED:20260116T230152Z
LAST-MODIFIED:20260127T145718Z
UID:10000195-1771200000-1771286399@ranchorioaz.com
SUMMARY:Legends Monday at West Wickenburg
DESCRIPTION:
URL:https://ranchorioaz.com/event/legends-monday-at-west-wickenburg-4/
LOCATION:West Wickenburg\, 43550 W Hwy 60\, Wickenburg\, AZ\, 85390-2468\, United States
CATEGORIES:Legends,Rancho Rio
ATTACH;FMTTYPE=image/jpeg:https://ranchorioaz.com/wp-content/uploads/2026/01/02.26_RR_Legends_atWW-1.jpg
END:VEVENT
BEGIN:VEVENT
DTSTART;VALUE=DATE:20260210
DTEND;VALUE=DATE:20260211
DTSTAMP:20260419T074031
CREATED:20260116T230733Z
LAST-MODIFIED:20260210T041836Z
UID:10000200-1770681600-1770767999@ranchorioaz.com
SUMMARY:Legends Out West - Cancelled
DESCRIPTION:
URL:https://ranchorioaz.com/event/legends-out-west-6/
LOCATION:West Wickenburg\, 43550 W Hwy 60\, Wickenburg\, AZ\, 85390-2468\, United States
CATEGORIES:Legends,Rancho Rio
ATTACH;FMTTYPE=image/png:https://ranchorioaz.com/wp-content/uploads/2026/01/Legends_Cancelled_021026.png
END:VEVENT
BEGIN:VEVENT
DTSTART;VALUE=DATE:20260209
DTEND;VALUE=DATE:20260210
DTSTAMP:20260419T074031
CREATED:20260116T230056Z
LAST-MODIFIED:20260127T145656Z
UID:10000194-1770595200-1770681599@ranchorioaz.com
SUMMARY:Legends Monday at West Wickenburg
DESCRIPTION:
URL:https://ranchorioaz.com/event/legends-monday-at-west-wickenburg-3/
LOCATION:West Wickenburg\, 43550 W Hwy 60\, Wickenburg\, AZ\, 85390-2468\, United States
CATEGORIES:Legends,Rancho Rio
ATTACH;FMTTYPE=image/jpeg:https://ranchorioaz.com/wp-content/uploads/2026/01/02.26_RR_Legends_atWW-1.jpg
END:VEVENT
BEGIN:VEVENT
DTSTART;VALUE=DATE:20260203
DTEND;VALUE=DATE:20260204
DTSTAMP:20260419T074031
CREATED:20260116T230656Z
LAST-MODIFIED:20260116T230656Z
UID:10000199-1770076800-1770163199@ranchorioaz.com
SUMMARY:Legends Out West
DESCRIPTION:
URL:https://ranchorioaz.com/event/legends-out-west-5/
LOCATION:West Wickenburg\, 43550 W Hwy 60\, Wickenburg\, AZ\, 85390-2468\, United States
CATEGORIES:Legends,Rancho Rio
ATTACH;FMTTYPE=image/jpeg:https://ranchorioaz.com/wp-content/uploads/2026/01/02.26_WestWickenburg.jpg
END:VEVENT
BEGIN:VEVENT
DTSTART;VALUE=DATE:20260202
DTEND;VALUE=DATE:20260203
DTSTAMP:20260419T074031
CREATED:20260116T230008Z
LAST-MODIFIED:20260127T145857Z
UID:10000193-1769990400-1770076799@ranchorioaz.com
SUMMARY:Legends Monday
DESCRIPTION:
URL:https://ranchorioaz.com/event/legends-monday-west-wickenburg/
LOCATION:West Wickenburg\, 43550 W Hwy 60\, Wickenburg\, AZ\, 85390-2468\, United States
CATEGORIES:Legends,Rancho Rio
ATTACH;FMTTYPE=image/jpeg:https://ranchorioaz.com/wp-content/uploads/2026/01/02.02.26_RR_Legends.jpg
END:VEVENT
BEGIN:VEVENT
DTSTART;VALUE=DATE:20260127
DTEND;VALUE=DATE:20260128
DTSTAMP:20260419T074031
CREATED:20251219T025210Z
LAST-MODIFIED:20260105T232341Z
UID:10000187-1769472000-1769558399@ranchorioaz.com
SUMMARY:Legends Out West
DESCRIPTION:
URL:https://ranchorioaz.com/event/legends-out-west-4/
LOCATION:West Wickenburg\, 43550 W Hwy 60\, Wickenburg\, AZ\, 85390-2468\, United States
CATEGORIES:Legends
ATTACH;FMTTYPE=image/jpeg:https://ranchorioaz.com/wp-content/uploads/2025/12/01.26_WestWickenburg-1.jpg
END:VEVENT
BEGIN:VEVENT
DTSTART;VALUE=DATE:20260120
DTEND;VALUE=DATE:20260121
DTSTAMP:20260419T074031
CREATED:20251219T025133Z
LAST-MODIFIED:20260105T232442Z
UID:10000186-1768867200-1768953599@ranchorioaz.com
SUMMARY:Legends Out West
DESCRIPTION:
URL:https://ranchorioaz.com/event/legends-out-west-3/
LOCATION:West Wickenburg\, 43550 W Hwy 60\, Wickenburg\, AZ\, 85390-2468\, United States
CATEGORIES:Legends
ATTACH;FMTTYPE=image/jpeg:https://ranchorioaz.com/wp-content/uploads/2025/12/01.26_WestWickenburg-1.jpg
END:VEVENT
BEGIN:VEVENT
DTSTART;VALUE=DATE:20260113
DTEND;VALUE=DATE:20260114
DTSTAMP:20260419T074031
CREATED:20251219T025058Z
LAST-MODIFIED:20260105T232512Z
UID:10000185-1768262400-1768348799@ranchorioaz.com
SUMMARY:Legends Out West
DESCRIPTION:
URL:https://ranchorioaz.com/event/legends-out-west-2/
LOCATION:West Wickenburg\, 43550 W Hwy 60\, Wickenburg\, AZ\, 85390-2468\, United States
CATEGORIES:Legends
ATTACH;FMTTYPE=image/jpeg:https://ranchorioaz.com/wp-content/uploads/2025/12/01.26_WestWickenburg-1.jpg
END:VEVENT
BEGIN:VEVENT
DTSTART;VALUE=DATE:20260106
DTEND;VALUE=DATE:20260107
DTSTAMP:20260419T074031
CREATED:20251219T025016Z
LAST-MODIFIED:20260105T232600Z
UID:10000184-1767657600-1767743999@ranchorioaz.com
SUMMARY:Legends Out West
DESCRIPTION:
URL:https://ranchorioaz.com/event/legends-out-west/
LOCATION:West Wickenburg\, 43550 W Hwy 60\, Wickenburg\, AZ\, 85390-2468\, United States
CATEGORIES:Legends
ATTACH;FMTTYPE=image/jpeg:https://ranchorioaz.com/wp-content/uploads/2025/12/01.26_WestWickenburg-1.jpg
END:VEVENT
END:VCALENDAR